BEGIN:VCALENDAR
VERSION:2.0
PRODID:SchoolNow
CALSCALE:GREGORIAN
BEGIN:VEVENT
UID:002e9abe-ddf2-11ec-bb5b-0ab3960fe68f
DTSTAMP:20220527T192641Z
SUMMARY:Summer Graduation Applications Due!
LOCATION:Registrar's Office
URL;VALUE=URI:https://www.solacc.edu/about-us/calendar/3207732/summer-gradu
 ation-applications-due
DTSTART:20220527T050000Z
DTEND:20220702T045900Z
END:VEVENT
END:VCALENDAR
